BEGIN:VCALENDAR
VERSION:2.0
PRODID:icalendar-ruby
CALSCALE:GREGORIAN
METHOD:PUBLISH
BEGIN:VEVENT
DTSTAMP:20260420T073448Z
UID:102-953821@oakdalerockymount.org
DTSTART:20260423T130000Z
DTEND:20260423T140000Z
CLASS:PUBLIC
CREATED:20260416T112723
DESCRIPTION:Come enjoy breakfast with the Joy Group.
LAST-MODIFIED:20260416T112723
LOCATION:Nashville Diner
SUMMARY:Joy Group Breakfast 
URL;VALUE=URI:https://www.oakdalerockymount.com/events/joy-group-breakfast/
 2026-04-23
ATTACH;FILENAME=Joy-Group-Breakfast.jpg;FMTTYPE=image/jpeg:https://dq5pwpg1
 q8ru0.cloudfront.net/2026/04/16/15/27/23/fc99af29-30c4-4a91-ae4e-5748c1c62
 d10/Joy-Group-Breakfast.jpg
END:VEVENT
END:VCALENDAR
