BEGIN:VCALENDAR
VERSION:2.0
PRODID:icalendar-ruby
CALSCALE:GREGORIAN
METHOD:PUBLISH
BEGIN:VEVENT
DTSTAMP:20260421T111517Z
UID:104-970674@oakdalerockymount.org
DTSTART;VALUE=DATE:20260430
DTEND;VALUE=DATE:20260430
CLASS:PUBLIC
CREATED:20260420T220908
DESCRIPTION:Join N.C. Baptists for a one-day event designed to equip you wi
 th the biblical and missional health needed to lead change. \nChurch revi
 talization is a long journey\, and you don’t need to walk it alone. Hear
  from Matt Capps\, Steven Wade and other experienced leaders as they share
  a roadmap for navigating the complexities of renewal.
LAST-MODIFIED:20260420T220908
LOCATION:Faith Youngsville
SUMMARY:Shepherding Renewal
URL;VALUE=URI:https://www.oakdalerockymount.com/events/shepherding-renewal/
 2026-04-30
ATTACH;FILENAME=2.jpg;FMTTYPE=image/jpeg:https://dq5pwpg1q8ru0.cloudfront.n
 et/2026/04/21/02/09/07/e0b1f896-5ab8-4465-9780-454cfe312797/2.jpg
END:VEVENT
END:VCALENDAR
