BEGIN:VCALENDAR
VERSION:2.0
PRODID:icalendar-ruby
CALSCALE:GREGORIAN
METHOD:PUBLISH
BEGIN:VEVENT
DTSTAMP:20260422T004435Z
UID:34-973894@oakdalerockymount.org
DTSTART:20261101T153000Z
DTEND:20261101T164500Z
CLASS:PUBLIC
CREATED:20260421T202604
DESCRIPTION:
LAST-MODIFIED:20260421T202604
LOCATION:Oakdale Baptist Church
SUMMARY:Sunday Morning Worship
URL;VALUE=URI:https://www.oakdalerockymount.com/events/sunday-morning-worsh
 ip/2026-11-01
ATTACH;FILENAME=worship-service.png;FMTTYPE=image/png:https://dq5pwpg1q8ru0
 .cloudfront.net/2025/08/18/21/17/44/74ea6ce5-93f9-4738-a9ac-fb20b6500018/w
 orship-service.png
END:VEVENT
END:VCALENDAR
